BEGIN:VCALENDAR
VERSION:2.0
PRODID:-//Kona Beth Shalom - ECPv6.15.20//NONSGML v1.0//EN
CALSCALE:GREGORIAN
METHOD:PUBLISH
X-ORIGINAL-URL:https://konabethshalom.org
X-WR-CALDESC:Events for Kona Beth Shalom
REFRESH-INTERVAL;VALUE=DURATION:PT1H
X-Robots-Tag:noindex
X-PUBLISHED-TTL:PT1H
BEGIN:VTIMEZONE
TZID:Pacific/Honolulu
BEGIN:STANDARD
TZOFFSETFROM:-1000
TZOFFSETTO:-1000
TZNAME:HST
DTSTART:20250101T000000
END:STANDARD
END:VTIMEZONE
BEGIN:VEVENT
DTSTART;TZID=Pacific/Honolulu:20260419T130000
DTEND;TZID=Pacific/Honolulu:20260419T160000
DTSTAMP:20260420T234716
CREATED:20260302T154916Z
LAST-MODIFIED:20260302T155313Z
UID:10000439-1776603600-1776614400@konabethshalom.org
SUMMARY:Ceramics Workshop
DESCRIPTION:Courtney Meiselman is offering a second date for the ceramics workshop in case the first one fills up quickly. Limited spaces available. RSVP required\, and the address will be given to those who RSVPd closer to the event date. $10 supply fee to be paid directly to Courtney.
URL:https://konabethshalom.org/event/ceramics-workshop-2/
LOCATION:HI
CATEGORIES:Special Events
END:VEVENT
BEGIN:VEVENT
DTSTART;TZID=Pacific/Honolulu:20260412T130000
DTEND;TZID=Pacific/Honolulu:20260412T160000
DTSTAMP:20260420T234716
CREATED:20260301T142329Z
LAST-MODIFIED:20260302T155129Z
UID:10000438-1775998800-1776009600@konabethshalom.org
SUMMARY:Ceramics Workshop
DESCRIPTION:Join Courtney Meiselman in her studio for a fun pinch pot workshop on April 12\, 2026\, with a possible additional date of April 19\, 2026. Limited spaces available. Please RSVP early. The address will be given to those who RSVPd closer to the event date.  $10 supply fee to be paid directly to Courtney. \nReserve your space!! RSVP to: president@konabethshalom.org
URL:https://konabethshalom.org/event/ceramics-workshop/
LOCATION:Captain Cook\, HI\, Captain Cook\, 96704\, United States
CATEGORIES:Special Events
END:VEVENT
BEGIN:VEVENT
DTSTART;VALUE=DATE:20260411
DTEND;VALUE=DATE:20260419
DTSTAMP:20260420T234716
CREATED:20260408T043848Z
LAST-MODIFIED:20260408T044115Z
UID:10000446-1775865600-1776556799@konabethshalom.org
SUMMARY:"Four Winters" Documentary on Jewish WWII Partisans
DESCRIPTION:To mark Yom HaShoah and the Days of Remembrance\, you are invited to screen a powerful and inspiring film about Jews who fought back against the Nazis and their collaborators. “Four Winters” spotlights some of the last surviving partisans\, recalling the cold\, hunger\, and fear\, but also courage\, resourcefulness\, and determined resistance. Directed by Julia Mintz\, the documentary has earned numerous festival awards\, and will be available to stream online for one week only\, beginning this Saturday\, April 11. Tickets are required to cover the expense of distribution\, but the cost is only $8 and additional donations will support Holocaust education programs. Click here for a preview of “Four Winters” and purchase your screening ticket at the link below. \nPurchase your ticket at this link\nPresented by the Holocaust Remembrance Foundation and Sponsored by Holocaust Survivor Eva Haller\, in honor of her brother Jonas who was a partisan
URL:https://konabethshalom.org/event/four-winters-documentary-on-jewish-wwii-partisans/
LOCATION:HI
CATEGORIES:Special Events
END:VEVENT
BEGIN:VEVENT
DTSTART;TZID=Pacific/Honolulu:20260328T103000
DTEND;TZID=Pacific/Honolulu:20260328T150000
DTSTAMP:20260420T234716
CREATED:20260321T012930Z
LAST-MODIFIED:20260321T012930Z
UID:10000441-1774693800-1774710000@konabethshalom.org
SUMMARY:Shabbat Hagadol
DESCRIPTION:Join with KBS members\, friends and guests for a Shabbat service at New Thought Center of Hawai`i in Kealakekua. Dr. Barry Blum leads the service\, joined by Rabbi Shari Joy Berman who will read from this week’s parashah\, Tzav / צַו (“command”)\, in which the Israelites are further instructed to prepare for sacred rituals in the mishkan (tabernacle) and the role of the kohanim – priests – in carrying them out.  \nOn the Shabbat before Passover\, we will look forward to the annual festival of matzah and freedom. \nAfter the service\, stay for our Kiddush & Kibbitz potluck. If you can\, please bring a dish to share (but no pork or shellfish).  \nThe Shabbat service will be live-streamed via Zoom\, the KBS YouTube Channel and KBS Facebook page. Connection details will be sent by email prior to the service.
URL:https://konabethshalom.org/event/shabbat-hagadol/
LOCATION:New Thought Center\, 81-6587 Mamalahoa Hwy\, Kealakekua\, HI\, 96750\, United States
CATEGORIES:Shabbat,Special Events
END:VEVENT
BEGIN:VEVENT
DTSTART;TZID=Pacific/Honolulu:20260228T103000
DTEND;TZID=Pacific/Honolulu:20260228T150000
DTSTAMP:20260420T234716
CREATED:20260111T165354Z
LAST-MODIFIED:20260214T004613Z
UID:10000429-1772274600-1772290800@konabethshalom.org
SUMMARY:Shabbat - Purim - Magic !
DESCRIPTION:Join with KBS members\, friends and guests for a Shabbat service at New Thought Center of Hawai`i in Kealakekua. Dr. Barry Blum leads the service\, joined by Rabbi Shari Joy Berman who will read from this week’s parashah\, Tetzaveh / תְּצַוֶּה (“you shall command”)\, in which the Israelites are instructed to prepare for sacred rituals in the mishkan (tabernacle) and to clothe Aaron and his sons in elaborate priestly outfits.  \nWith Purim just days away\, Barry will present a special pre-holiday reading of the Megillah of Esther …with grogger noisemakers on hand to drown out the name of you-know-who. \nAfter the service\, stay for our Kiddush & Kibbitz potluck. If you can\, please bring a dish to share (but no pork or shellfish) …and there will homemade hamantaschen!  \n  \nThen\, put some magic in your life with prominent prestidigitator and legerdemain legend Arnie Rabin (aka Arneleo HaGadol) …RSVP to president@konabethshalom.org  
URL:https://konabethshalom.org/event/shabbat-services-and-magic-lessons/
LOCATION:New Thought Center\, 81-6587 Mamalahoa Hwy\, Kealakekua\, HI\, 96750\, United States
CATEGORIES:Shabbat,Special Events
END:VEVENT
BEGIN:VEVENT
DTSTART;TZID=Pacific/Honolulu:20260124T103000
DTEND;TZID=Pacific/Honolulu:20260124T140000
DTSTAMP:20260420T234716
CREATED:20260109T162840Z
LAST-MODIFIED:20260109T220050Z
UID:10000427-1769250600-1769263200@konabethshalom.org
SUMMARY:Shabbat Bo Service and Creative Writing Workshop
DESCRIPTION:Aviva Plaut & Una Greenaway will lead this month’s service which will include readings from parashah Bo by Rabbi Shari Joy Berman. Aviva will deliver a d’rash inspired by themes in the Torah portion – a dramatic chapter that includes the last of the Ten Plagues inflicted upon the Egyptians before Pharaoh agrees to let the Israelites go. \nFollowing services\, enjoy our Kiddush & Kibbutz potluck. If you are able\, please bring a dish to share (but no pork or shellfish!). \nAfterward\, all are invited to take part in a gentle\, heart-centered creative writing workshop with Dr. Heather Friedman Rivera. \nThis one-hour gathering offers space to slow down and explore writing as a tool for reflection and healing. Through guided prompts\, imagery\, and quiet reflection\, participants will be invited to reconnect with their creative voice—no prior writing experience needed. \nSharing is always optional. The focus is not on “good writing\,” but on presence\, curiosity\, and listening to what wants to emerge. \nWhether you’ve always wanted to write or are simply drawn to the power of words\, we hope you’ll stay after services and join us.
URL:https://konabethshalom.org/event/shabbat-services-and-creative-writing-workshop/
LOCATION:HI
CATEGORIES:Shabbat,Special Events
END:VEVENT
END:VCALENDAR